BEGIN:VCALENDAR
VERSION:2.0
PRODID:-//Long Beach Public Library - ECPv6.15.20//NONSGML v1.0//EN
CALSCALE:GREGORIAN
METHOD:PUBLISH
X-WR-CALNAME:Long Beach Public Library
X-ORIGINAL-URL:https://www.longbeach.lib.ms.us
X-WR-CALDESC:Events for Long Beach Public Library
REFRESH-INTERVAL;VALUE=DURATION:PT1H
X-Robots-Tag:noindex
X-PUBLISHED-TTL:PT1H
BEGIN:VTIMEZONE
TZID:America/Chicago
BEGIN:DAYLIGHT
TZOFFSETFROM:-0600
TZOFFSETTO:-0500
TZNAME:CDT
DTSTART:20250309T080000
END:DAYLIGHT
BEGIN:STANDARD
TZOFFSETFROM:-0500
TZOFFSETTO:-0600
TZNAME:CST
DTSTART:20251102T070000
END:STANDARD
BEGIN:DAYLIGHT
TZOFFSETFROM:-0600
TZOFFSETTO:-0500
TZNAME:CDT
DTSTART:20260308T080000
END:DAYLIGHT
BEGIN:STANDARD
TZOFFSETFROM:-0500
TZOFFSETTO:-0600
TZNAME:CST
DTSTART:20261101T070000
END:STANDARD
BEGIN:DAYLIGHT
TZOFFSETFROM:-0600
TZOFFSETTO:-0500
TZNAME:CDT
DTSTART:20270314T080000
END:DAYLIGHT
BEGIN:STANDARD
TZOFFSETFROM:-0500
TZOFFSETTO:-0600
TZNAME:CST
DTSTART:20271107T070000
END:STANDARD
END:VTIMEZONE
BEGIN:VEVENT
DTSTART;TZID=America/Chicago:20260420T100000
DTEND;TZID=America/Chicago:20260420T120000
DTSTAMP:20260423T143717
CREATED:20260320T204750Z
LAST-MODIFIED:20260326T151528Z
UID:7552-1776679200-1776686400@www.longbeach.lib.ms.us
SUMMARY:Patron Appreciation Day
DESCRIPTION:We love our patrons! Refreshments will be served in the main wing.
URL:https://www.longbeach.lib.ms.us/event/patron-appreciation-day/
CATEGORIES:Public Interest
END:VEVENT
BEGIN:VEVENT
DTSTART;TZID=America/Chicago:20260421T103000
DTEND;TZID=America/Chicago:20260421T110000
DTSTAMP:20260423T143717
CREATED:20221122T215026Z
LAST-MODIFIED:20260320T203146Z
UID:4997-1776767400-1776769200@www.longbeach.lib.ms.us
SUMMARY:Preschool Story Time
DESCRIPTION:Preschool story time is held in the children’s section of the library.  Stories\, song and dance and a craft are included as part of the theme.
URL:https://www.longbeach.lib.ms.us/event/preschool-story-time-5/
CATEGORIES:Preschool Story Time,Public Interest
ATTACH;FMTTYPE=image/jpeg:https://www.longbeach.lib.ms.us/wp-content/uploads/2018/06/storytime-e1624511895176.jpg
END:VEVENT
BEGIN:VEVENT
DTSTART;TZID=America/Chicago:20260422T100000
DTEND;TZID=America/Chicago:20260422T150000
DTSTAMP:20260423T143717
CREATED:20260320T205102Z
LAST-MODIFIED:20260326T151617Z
UID:7554-1776852000-1776870000@www.longbeach.lib.ms.us
SUMMARY:Old Book...New Look!
DESCRIPTION:Give that old book a brand-new book cover designed by you! Books will be pulled from all areas of the library from which you can choose.
URL:https://www.longbeach.lib.ms.us/event/old-book-new-look/
CATEGORIES:Public Interest
END:VEVENT
BEGIN:VEVENT
DTSTART;TZID=America/Chicago:20260423T090000
DTEND;TZID=America/Chicago:20260423T110000
DTSTAMP:20260423T143717
CREATED:20260320T205402Z
LAST-MODIFIED:20260326T151650Z
UID:7556-1776934800-1776942000@www.longbeach.lib.ms.us
SUMMARY:Learn to Write a Haiku
DESCRIPTION:April is National Poetry Month! Stop by the library and learn all there is to know about writing a Haiku with one of our new Friends of the Library members.
URL:https://www.longbeach.lib.ms.us/event/learn-to-write-a-haiku/
CATEGORIES:Public Interest
END:VEVENT
BEGIN:VEVENT
DTSTART;TZID=America/Chicago:20260423T103000
DTEND;TZID=America/Chicago:20260423T110000
DTSTAMP:20260423T143717
CREATED:20250623T150733Z
LAST-MODIFIED:20260320T203256Z
UID:6983-1776940200-1776942000@www.longbeach.lib.ms.us
SUMMARY:Preschool Story Time
DESCRIPTION:Preschool story time is held in the children’s section of the library. Stories\, song and dance and a craft are included as part of the theme.
URL:https://www.longbeach.lib.ms.us/event/preschool-story-time-3/
CATEGORIES:Preschool Story Time,Public Interest
ATTACH;FMTTYPE=image/jpeg:https://www.longbeach.lib.ms.us/wp-content/uploads/2018/06/storytime-e1624511895176.jpg
END:VEVENT
BEGIN:VEVENT
DTSTART;TZID=America/Chicago:20260425T000000
DTEND;TZID=America/Chicago:20260427T235959
DTSTAMP:20260423T143717
CREATED:20251119T204735Z
LAST-MODIFIED:20260320T193434Z
UID:7250-1777075200-1777334399@www.longbeach.lib.ms.us
SUMMARY:Library Closed for state holiday
DESCRIPTION:Presidents \n\n\n\n\n\nThe Library will be closed from Saturday\, April 25 through Monday April 27 for a state holiday. We will reopen on Tuesday\, April 28 at 9:00 am.
URL:https://www.longbeach.lib.ms.us/event/library-closed-for-christmas-holiday/
CATEGORIES:Holiday,Library Closed,Public Interest
END:VEVENT
BEGIN:VEVENT
DTSTART;TZID=America/Chicago:20260428T103000
DTEND;TZID=America/Chicago:20260428T110000
DTSTAMP:20260423T143717
CREATED:20221122T214419Z
LAST-MODIFIED:20260320T203434Z
UID:4995-1777372200-1777374000@www.longbeach.lib.ms.us
SUMMARY:Preschool Story Time
DESCRIPTION:Preschool story time is held in the children’s section of the library.  Stories\, song and dance and a craft are included as part of the theme.
URL:https://www.longbeach.lib.ms.us/event/preschool-story-time-4/
CATEGORIES:Preschool Story Time,Public Interest
ATTACH;FMTTYPE=image/jpeg:https://www.longbeach.lib.ms.us/wp-content/uploads/2018/06/storytime-e1624511895176.jpg
END:VEVENT
BEGIN:VEVENT
DTSTART;TZID=America/Chicago:20260430T103000
DTEND;TZID=America/Chicago:20260430T110000
DTSTAMP:20260423T143717
CREATED:20260320T204053Z
LAST-MODIFIED:20260320T204053Z
UID:7550-1777545000-1777546800@www.longbeach.lib.ms.us
SUMMARY:Preschool Story Time
DESCRIPTION:Preschool story time is held in the children’s section of the library. Stories\, song and dance and a craft are included as part of the theme.
URL:https://www.longbeach.lib.ms.us/event/preschool-story-time-8/
CATEGORIES:Preschool Story Time,Public Interest
ATTACH;FMTTYPE=image/jpeg:https://www.longbeach.lib.ms.us/wp-content/uploads/2018/06/storytime-e1624511895176.jpg
END:VEVENT
BEGIN:VEVENT
DTSTART;TZID=America/Chicago:20260501T000000
DTEND;TZID=America/Chicago:20260531T235959
DTSTAMP:20260423T143717
CREATED:20260423T174500Z
LAST-MODIFIED:20260423T174754Z
UID:7647-1777593600-1780271999@www.longbeach.lib.ms.us
SUMMARY:Register for Summer Reading 2026 - Unearth a Story
DESCRIPTION:Register for Summer Reading May 1 through May 31 online on in the children’s wing at Long Beach Public Library!
URL:https://www.longbeach.lib.ms.us/event/registration-for-summer-reading-begins/
CATEGORIES:Preschool Story Time,Public Interest,Summer Reading - Family,Summer Reading - K - 5th,Summer Reading - Teen
END:VEVENT
BEGIN:VEVENT
DTSTART;TZID=America/Chicago:20260502T090000
DTEND;TZID=America/Chicago:20260502T120000
DTSTAMP:20260423T143717
CREATED:20240501T195955Z
LAST-MODIFIED:20260423T165633Z
UID:6177-1777712400-1777723200@www.longbeach.lib.ms.us
SUMMARY:Book Sale
DESCRIPTION:Check out the library’s book sale on Saturdays at 9:00 am!  All proceeds support the library\, and prices are as follows:  \n\n\n\n\nMagazines are .10 each.\n\n\n\nPaperbacks are .25 each.\n\n\n\nHardbacks are .50 each.\n\n\n\nAudio books are .50 each.\n\n\n\nDVDs are .50 each.
URL:https://www.longbeach.lib.ms.us/event/book-sale/
CATEGORIES:Public Interest
ATTACH;FMTTYPE=image/gif:https://www.longbeach.lib.ms.us/wp-content/uploads/2023/06/BOOKSALE.gif
END:VEVENT
BEGIN:VEVENT
DTSTART;TZID=America/Chicago:20260505T103000
DTEND;TZID=America/Chicago:20260505T110000
DTSTAMP:20260423T143717
CREATED:20240124T163403Z
LAST-MODIFIED:20260423T163746Z
UID:6041-1777977000-1777978800@www.longbeach.lib.ms.us
SUMMARY:Preschool Story Time
DESCRIPTION:Preschool story time is held in the children’s section of the library.  Stories\, song and dance and craft are included as part of the theme.
URL:https://www.longbeach.lib.ms.us/event/preschool-story-time-10/
CATEGORIES:Preschool Story Time,Public Interest
ATTACH;FMTTYPE=image/jpeg:https://www.longbeach.lib.ms.us/wp-content/uploads/2018/06/storytime-e1624511895176.jpg
END:VEVENT
BEGIN:VEVENT
DTSTART;TZID=America/Chicago:20260507T103000
DTEND;TZID=America/Chicago:20260507T110000
DTSTAMP:20260423T143717
CREATED:20221122T220028Z
LAST-MODIFIED:20260423T163842Z
UID:5005-1778149800-1778151600@www.longbeach.lib.ms.us
SUMMARY:Preschool Story Time
DESCRIPTION:Preschool story time is held in the children’s section of the library.  Stories\, song and dance and a craft are included as part of the theme.
URL:https://www.longbeach.lib.ms.us/event/preschool-story-time-12/
CATEGORIES:Preschool Story Time,Public Interest
ATTACH;FMTTYPE=image/jpeg:https://www.longbeach.lib.ms.us/wp-content/uploads/2018/06/storytime-e1624511895176.jpg
END:VEVENT
BEGIN:VEVENT
DTSTART;TZID=America/Chicago:20260509T090000
DTEND;TZID=America/Chicago:20260509T120000
DTSTAMP:20260423T143717
CREATED:20240501T201959Z
LAST-MODIFIED:20260423T165656Z
UID:6179-1778317200-1778328000@www.longbeach.lib.ms.us
SUMMARY:Book Sale
DESCRIPTION:Check out the library’s book sale on Saturdays at 9:00 am!  All proceeds support the library\, and prices are as follows:  \n\n\n\n\nMagazines are .10 each.\n\n\n\nPaperbacks are .25 each.\n\n\n\nHardbacks are .50 each.\n\n\n\nAudio books are .50 each.\n\n\n\nDVDs are .50 each.
URL:https://www.longbeach.lib.ms.us/event/book-sale-8/
CATEGORIES:Public Interest
ATTACH;FMTTYPE=image/gif:https://www.longbeach.lib.ms.us/wp-content/uploads/2023/06/BOOKSALE.gif
END:VEVENT
BEGIN:VEVENT
DTSTART;TZID=America/Chicago:20260512T103000
DTEND;TZID=America/Chicago:20260512T110000
DTSTAMP:20260423T143717
CREATED:20230128T165802Z
LAST-MODIFIED:20260423T163936Z
UID:5071-1778581800-1778583600@www.longbeach.lib.ms.us
SUMMARY:Preschool Story Time
DESCRIPTION:Preschool story time is held in the children’s section of the library. Stories\, song and dance and a craft are included as part of the theme.
URL:https://www.longbeach.lib.ms.us/event/preschool-story-time-20/
CATEGORIES:Preschool Story Time,Public Interest
ATTACH;FMTTYPE=image/jpeg:https://www.longbeach.lib.ms.us/wp-content/uploads/2018/06/storytime-e1624511895176.jpg
END:VEVENT
BEGIN:VEVENT
DTSTART;TZID=America/Chicago:20260514T103000
DTEND;TZID=America/Chicago:20260514T110000
DTSTAMP:20260423T143717
CREATED:20230128T174640Z
LAST-MODIFIED:20260423T164019Z
UID:5075-1778754600-1778756400@www.longbeach.lib.ms.us
SUMMARY:Preschool Story Time
DESCRIPTION:Preschool story time is held in the children’s section of the library. Stories\, song and dance and a craft are included as part of the theme.
URL:https://www.longbeach.lib.ms.us/event/preschool-story-time-22/
CATEGORIES:Preschool Story Time,Public Interest
ATTACH;FMTTYPE=image/jpeg:https://www.longbeach.lib.ms.us/wp-content/uploads/2018/06/storytime-e1624511895176.jpg
END:VEVENT
BEGIN:VEVENT
DTSTART;TZID=America/Chicago:20260516T090000
DTEND;TZID=America/Chicago:20260516T120000
DTSTAMP:20260423T143717
CREATED:20230301T190247Z
LAST-MODIFIED:20260423T165720Z
UID:5103-1778922000-1778932800@www.longbeach.lib.ms.us
SUMMARY:Book Sale
DESCRIPTION:Check out the library’s book sale on Saturdays at 9:00 am!  All proceeds support the library\, and prices are as follows:  \n\n\n\n\nMagazines are .10 each.\n\n\n\nPaperbacks are .25 each.\n\n\n\nHardbacks are .50 each.\n\n\n\nAudio books are .50 each.\n\n\n\nDVDs are .50 each.
URL:https://www.longbeach.lib.ms.us/event/book-sale-2/
CATEGORIES:Public Interest
ATTACH;FMTTYPE=image/gif:https://www.longbeach.lib.ms.us/wp-content/uploads/2023/06/BOOKSALE.gif
END:VEVENT
BEGIN:VEVENT
DTSTART;TZID=America/Chicago:20260516T100000
DTEND;TZID=America/Chicago:20260516T120000
DTSTAMP:20260423T143717
CREATED:20251119T202720Z
LAST-MODIFIED:20260423T173822Z
UID:7244-1778925600-1778932800@www.longbeach.lib.ms.us
SUMMARY:Sit\, Stay\, READ!
DESCRIPTION:Does your child struggle with reading? Visiting Pet Teams of South Mississippi has the perfect solution. Their trained therapy dogs are not only the perfect audience but also have proven to be ideal for those who need a little encouragement to improve their literacy skills in a non-judgmental environment.  It’s free\, and no registration is required.  Adults must accompany children for this event.  For more information\, contact the library.
URL:https://www.longbeach.lib.ms.us/event/sit-stay-read-2/
CATEGORIES:Public Interest
END:VEVENT
BEGIN:VEVENT
DTSTART;TZID=America/Chicago:20260519T103000
DTEND;TZID=America/Chicago:20260519T110000
DTSTAMP:20260423T143717
CREATED:20230128T173500Z
LAST-MODIFIED:20260423T165245Z
UID:5073-1779186600-1779188400@www.longbeach.lib.ms.us
SUMMARY:Preschool Story Time
DESCRIPTION:Preschool story time is held in the children’s section of the library. Stories\, song and dance and a craft are included as part of the theme.
URL:https://www.longbeach.lib.ms.us/event/preschool-story-time-21/
CATEGORIES:Preschool Story Time,Public Interest
ATTACH;FMTTYPE=image/jpeg:https://www.longbeach.lib.ms.us/wp-content/uploads/2018/06/storytime-e1624511895176.jpg
END:VEVENT
BEGIN:VEVENT
DTSTART;TZID=America/Chicago:20260521T103000
DTEND;TZID=America/Chicago:20260521T110000
DTSTAMP:20260423T143717
CREATED:20230128T184505Z
LAST-MODIFIED:20260423T165331Z
UID:5079-1779359400-1779361200@www.longbeach.lib.ms.us
SUMMARY:Preschool Story Time
DESCRIPTION:Preschool story time is held in the children’s section of the library. Stories\, song and dance and a craft are included as part of the theme.
URL:https://www.longbeach.lib.ms.us/event/preschool-story-time-23/
CATEGORIES:Preschool Story Time,Public Interest
ATTACH;FMTTYPE=image/jpeg:https://www.longbeach.lib.ms.us/wp-content/uploads/2018/06/storytime-e1624511895176.jpg
END:VEVENT
BEGIN:VEVENT
DTSTART;TZID=America/Chicago:20260523T080000
DTEND;TZID=America/Chicago:20260525T170000
DTSTAMP:20260423T143717
CREATED:20260423T174204Z
LAST-MODIFIED:20260423T174205Z
UID:7645-1779523200-1779728400@www.longbeach.lib.ms.us
SUMMARY:Library Closed - Memorial Day
DESCRIPTION:The Long Beach Public Library will be closed from Saturday\, May 23 through Monday\, May 25 for Memorial Day weekend.  We will reopen on Tuesday\, May 26 at 9:00 am.
URL:https://www.longbeach.lib.ms.us/event/library-closed-memorial-day/
CATEGORIES:Library Closed,Public Interest
END:VEVENT
BEGIN:VEVENT
DTSTART;TZID=America/Chicago:20260526T103000
DTEND;TZID=America/Chicago:20260526T110000
DTSTAMP:20260423T143717
CREATED:20251222T170642Z
LAST-MODIFIED:20260423T165417Z
UID:7401-1779791400-1779793200@www.longbeach.lib.ms.us
SUMMARY:Preschool Story Time
DESCRIPTION:Preschool story time is held in the children’s section of the library. Stories\, song and dance and a craft are included as part of the theme.
URL:https://www.longbeach.lib.ms.us/event/preschool-story-time/
CATEGORIES:Preschool Story Time,Public Interest
ATTACH;FMTTYPE=image/jpeg:https://www.longbeach.lib.ms.us/wp-content/uploads/2018/06/storytime-e1624511895176.jpg
END:VEVENT
BEGIN:VEVENT
DTSTART;TZID=America/Chicago:20260528T103000
DTEND;TZID=America/Chicago:20260528T110000
DTSTAMP:20260423T143717
CREATED:20251222T170754Z
LAST-MODIFIED:20260423T165446Z
UID:7403-1779964200-1779966000@www.longbeach.lib.ms.us
SUMMARY:Preschool Story Time
DESCRIPTION:Preschool story time is held in the children’s section of the library. Stories\, song and dance and a craft are included as part of the theme.
URL:https://www.longbeach.lib.ms.us/event/preschool-story-time-6/
CATEGORIES:Preschool Story Time,Public Interest
ATTACH;FMTTYPE=image/jpeg:https://www.longbeach.lib.ms.us/wp-content/uploads/2018/06/storytime-e1624511895176.jpg
END:VEVENT
BEGIN:VEVENT
DTSTART;TZID=America/Chicago:20260530T090000
DTEND;TZID=America/Chicago:20260530T120000
DTSTAMP:20260423T143717
CREATED:20250822T190134Z
LAST-MODIFIED:20260423T165801Z
UID:7067-1780131600-1780142400@www.longbeach.lib.ms.us
SUMMARY:Book Sale
DESCRIPTION:Check out the library’s book sale on Saturdays at 9:00 am!  All proceeds support the library\, and prices are as follows: \n\n\n\n\nMagazines are .10 each.\nPaperbacks are .25 each.\nHardbacks are .50 each.\nAudio books are .50 each.\nDVDs are .50 each.
URL:https://www.longbeach.lib.ms.us/event/book-sale-9/
CATEGORIES:Public Interest
ATTACH;FMTTYPE=image/gif:https://www.longbeach.lib.ms.us/wp-content/uploads/2023/06/BOOKSALE.gif
END:VEVENT
END:VCALENDAR